BEGIN:VCALENDAR
VERSION:2.0
PRODID:-//The Club for Boys - ECPv6.15.20//NONSGML v1.0//EN
CALSCALE:GREGORIAN
METHOD:PUBLISH
X-WR-CALNAME:The Club for Boys
X-ORIGINAL-URL:https://theclubforboys.org
X-WR-CALDESC:Events for The Club for Boys
REFRESH-INTERVAL;VALUE=DURATION:PT1H
X-Robots-Tag:noindex
X-PUBLISHED-TTL:PT1H
BEGIN:VTIMEZONE
TZID:America/Denver
BEGIN:DAYLIGHT
TZOFFSETFROM:-0700
TZOFFSETTO:-0600
TZNAME:MDT
DTSTART:20240310T090000
END:DAYLIGHT
BEGIN:STANDARD
TZOFFSETFROM:-0600
TZOFFSETTO:-0700
TZNAME:MST
DTSTART:20241103T080000
END:STANDARD
BEGIN:DAYLIGHT
TZOFFSETFROM:-0700
TZOFFSETTO:-0600
TZNAME:MDT
DTSTART:20250309T090000
END:DAYLIGHT
BEGIN:STANDARD
TZOFFSETFROM:-0600
TZOFFSETTO:-0700
TZNAME:MST
DTSTART:20251102T080000
END:STANDARD
BEGIN:DAYLIGHT
TZOFFSETFROM:-0700
TZOFFSETTO:-0600
TZNAME:MDT
DTSTART:20260308T090000
END:DAYLIGHT
BEGIN:STANDARD
TZOFFSETFROM:-0600
TZOFFSETTO:-0700
TZNAME:MST
DTSTART:20261101T080000
END:STANDARD
END:VTIMEZONE
BEGIN:VEVENT
DTSTART;TZID=America/Denver:20250222T170000
DTEND;TZID=America/Denver:20250222T193000
DTSTAMP:20260422T113011
CREATED:20240924T195600Z
LAST-MODIFIED:20250108T225457Z
UID:10000018-1740243600-1740252600@theclubforboys.org
SUMMARY:2025 Hooked on Hardwater Banquet
DESCRIPTION:
URL:https://theclubforboys.org/event/hooked-on-hardwater-banquet-2025/
LOCATION:Central States Fairgrounds\, 915 Centre St\, Rapid City\, SD\, 57701\, United States
ORGANIZER;CN="The Club for Boys":MAILTO:info@theclubforboys.org
END:VEVENT
END:VCALENDAR